BEGIN:VCALENDAR
VERSION:2.0
PRODID:-//wp-events-plugin.com//7.2.3.1//EN
BEGIN:VEVENT
UID:15@transformingmsforall.org
DTSTART:20270501T000000Z
DTEND:20270505T000000Z
DTSTAMP:20250612T134919Z
URL:https://transformingmsforall.org/events/aan-annual-meeting-2027/
SUMMARY:AAN Annual Meeting 2027
DESCRIPTION:AAN Annual Meeting 2027: Washington\, DC and Online\nThe latest
  trusted science\, essential continuing education\, and meaningful connect
 ions with neurology’s brightest minds from around the globe—that’s w
 hat you get when you experience an AAN conference.\n\n[maxbutton id="1" ur
 l="https://www.aan.com/events/upcoming-events" text="Stay in the loop" ]
ATTACH;FMTTYPE=image/jpeg:https://transformingmsforall.org/wp-content/uplo
 ads/aan.jpg
END:VEVENT
END:VCALENDAR