BEGIN:VCALENDAR
VERSION:2.0
PRODID:-//wp-events-plugin.com//7.2.3.1//EN
BEGIN:VEVENT
UID:17@transformingmsforall.org
DTSTART;VALUE=DATE:20260505
DTEND;VALUE=DATE:20260509
DTSTAMP:20250716T152127Z
URL:https://transformingmsforall.org/events/abn-annual-meeting-2026-birmin
 gham/
SUMMARY:ABN Annual Meeting 2026\, Birmingham
DESCRIPTION:Information pending..\n\n[maxbutton id="1" url="https://www.the
 abn.org/events/EventDetails.aspx?id=1658205&amp\;group=" text="ABN event p
 age!" ]
ATTACH;FMTTYPE=image/jpeg:https://transformingmsforall.org/wp-content/uplo
 ads/abn.png
END:VEVENT
END:VCALENDAR