BEGIN:VCALENDAR
VERSION:2.0
PRODID:-//wp-events-plugin.com//7.2.3.1//EN
BEGIN:VEVENT
UID:10@transformingmsforall.org
DTSTART;VALUE=DATE:20250924
DTEND;VALUE=DATE:20250927
DTSTAMP:20250709T092112Z
URL:https://transformingmsforall.org/events/ectrims-2025/
SUMMARY:ECTRIMS 2025
DESCRIPTION:ECTRIMS 2025\n41st Congress of the European Committee for Treat
 ment and Research in Multiple Sclerosis\n\nECTRIMS 2025 – to be held 24
 -26 September at the CCIB Barcelona International Convention Center in Bar
 celona\, Spain – is the premier meeting place for researchers\, clinici
 ans and healthcare providers to collaborate on life-changing research and 
 treatment options for people with MS and related diseases. This year’s p
 rogramme offers top-tier scientific sessions\, education\, networking\, an
 d more.\n\n&nbsp\;\n\n[maxbutton id="1" url="https://ectrims.eu/ectrims202
 5-registration/" text="Register here!" ]
ATTACH;FMTTYPE=image/jpeg:https://transformingmsforall.org/wp-content/uplo
 ads/ectrims.webp
LOCATION:CCIB Barcelona International Convention Center\, Plaça de Willy B
 randt\, 11-14\, Sant Martí\, 08019 Barcelona\, Spain\, Sant Martí\, Barc
 elona\, 08019\, Spain
GEO:41.409423;2.219213
X-APPLE-STRUCTURED-LOCATION;VALUE=URI;X-ADDRESS=Plaça de Willy Brandt\, 11
 -14\, Sant Martí\, 08019 Barcelona\, Spain\, Sant Martí\, Barcelona\, 08
 019\, Spain;X-APPLE-RADIUS=100;X-TITLE=CCIB Barcelona International Conven
 tion Center:geo:41.409423,2.219213
END:VEVENT
END:VCALENDAR