BEGIN:VCALENDAR
VERSION:2.0
PRODID:-//wp-events-plugin.com//7.2.3.1//EN
BEGIN:VEVENT
UID:4@transformingmsforall.org
DTSTART;VALUE=DATE:20250323
DTEND;VALUE=DATE:20250326
DTSTAMP:20250320T155000Z
URL:https://transformingmsforall.org/events/ms-trust-conference/
SUMMARY:MS Trust Conference 2025
DESCRIPTION:\nMS Trust conference\nThe MS Trust conference is a fantastic e
 vent for MS health professionals. It provides an opportunity to learn abou
 t the latest treatments\, therapies\, developments in clinical practice an
 d research from world-class key opinion leaders as well as share expertise
  and focus on improving care for everyone affected by Multiple Sclerosis.\
 n\n\n\nTransforming MS for All at MS Trust Conference\nAttending: Vikki Be
 ddow\, Joela Mathews\, and Aimée Milne \nCome and find us at the MS Trus
 t conference where we will have a stand showcasing our website through liv
 e demonstrations and a poster.\nOur website is geared towards unifying all
  of the professions and services involved in the delivery of MS care to cr
 eate one influential voice. \nWe believe collaboration is at the heart of
  driving meaningful improvement. If you have any questions ahead of the co
 nference about TMSFA please do not hesitate to email us. We would love to 
 make sure we have all the resources ready to answer your questions as best
  we can at the MS Trust conference.\n[maxbutton id="1"]\n&nbsp\;\n
ATTACH;FMTTYPE=image/jpeg:https://transformingmsforall.org/wp-content/uplo
 ads/ms-trust-conference-2022-laughing-delegates-seminar-1000x565-1.webp
LOCATION:Leonardo Hotel and Conference Venue\, Watling St\, Burbage\, LE10 
 3JA\, United Kingdom
GEO:52.516144;-1.363659
X-APPLE-STRUCTURED-LOCATION;VALUE=URI;X-ADDRESS=Watling St\, Burbage\, LE10
  3JA\, United Kingdom;X-APPLE-RADIUS=100;X-TITLE=Leonardo Hotel and Confer
 ence Venue:geo:52.516144,-1.363659
END:VEVENT
END:VCALENDAR