BEGIN:VCALENDAR
VERSION:2.0
PRODID:-//wp-events-plugin.com//7.2.3.1//EN
BEGIN:VEVENT
UID:8@transformingmsforall.org
DTSTART;VALUE=DATE:20250613
DTEND;VALUE=DATE:20250614
DTSTAMP:20250226T163551Z
URL:https://transformingmsforall.org/events/northern-connections-ms-annual
 -meeting/
SUMMARY:Northern Connections MS Annual Meeting
DESCRIPTION:\n\nThe next Northern Connections MS Annual Meeting is schedule
 d for Friday 13th June\, 2025.\n\n\nWith a variety of international and UK
 -based speakers discussing a wide range of topics and experiences in MS re
 search\, treatment and care\, it’s a great opportunity to meet\, network
  and collaborate with colleagues from across the northern regions of the U
 K.\n\nRegister here!
ATTACH;FMTTYPE=image/jpeg:https://transformingmsforall.org/wp-content/uplo
 ads/IMG_6092-e1740563019281.jpeg
END:VEVENT
END:VCALENDAR